BEGIN:VCALENDAR
VERSION:2.0
PRODID:-//Naturspur e.V. - ECPv6.15.17//NONSGML v1.0//EN
CALSCALE:GREGORIAN
METHOD:PUBLISH
X-WR-CALNAME:Naturspur e.V.
X-ORIGINAL-URL:https://naturspur.de
X-WR-CALDESC:Veranstaltungen für Naturspur e.V.
REFRESH-INTERVAL;VALUE=DURATION:PT1H
X-Robots-Tag:noindex
X-PUBLISHED-TTL:PT1H
BEGIN:VTIMEZONE
TZID:Europe/Berlin
BEGIN:DAYLIGHT
TZOFFSETFROM:+0100
TZOFFSETTO:+0200
TZNAME:CEST
DTSTART:20250330T010000
END:DAYLIGHT
BEGIN:STANDARD
TZOFFSETFROM:+0200
TZOFFSETTO:+0100
TZNAME:CET
DTSTART:20251026T010000
END:STANDARD
BEGIN:DAYLIGHT
TZOFFSETFROM:+0100
TZOFFSETTO:+0200
TZNAME:CEST
DTSTART:20260329T010000
END:DAYLIGHT
BEGIN:STANDARD
TZOFFSETFROM:+0200
TZOFFSETTO:+0100
TZNAME:CET
DTSTART:20261025T010000
END:STANDARD
BEGIN:DAYLIGHT
TZOFFSETFROM:+0100
TZOFFSETTO:+0200
TZNAME:CEST
DTSTART:20270328T010000
END:DAYLIGHT
BEGIN:STANDARD
TZOFFSETFROM:+0200
TZOFFSETTO:+0100
TZNAME:CET
DTSTART:20271031T010000
END:STANDARD
END:VTIMEZONE
BEGIN:VEVENT
DTSTART;TZID=Europe/Berlin:20260418T100000
DTEND;TZID=Europe/Berlin:20260418T160000
DTSTAMP:20260422T110012
CREATED:20251214T074041Z
LAST-MODIFIED:20251214T074041Z
UID:5815-1776506400-1776528000@naturspur.de
SUMMARY:Musik liegt in der Luft – Instrumente bauen\, Klänge entdecken\, Natur hören
DESCRIPTION:Instrumentenbau aus Naturmaterialien mit Kindern \nWie klingt eigentlich ein Ast\, ein Stein oder ein hohles Stück Holz? Beim Angebot „Musik liegt in der Luft“ entdecken Kinder Musik auf ganz ursprüngliche Weise – mitten in der Natur. Gemeinsam sammeln wir Naturmaterialien\, probieren Klänge aus und bauen daraus eigene Instrumente. Dabei entstehen individuelle Klangobjekte\, mit denen gespielt und musiziert werden darf. Im Mittelpunkt stehen die Freude am Entdecken\, das kreative Gestalten und das bewusste\, achtsame Wahrnehmen von Klängen. Ganz nebenbei entwickeln die Kinder ein Gefühl für ihre Umwelt und lernen Natur als wertvolle Ressource zu sehen. Ein sinnlicher\, kreativer Tag auf dem frühlingshaften Naturerlebnisgelände\, an dem Musik nicht nur gehört\, sondern selbst erschaffen wird. \nAlter der Teilnehmer: Ab 6\nKursgebühr: 48 Euro\nBitte mitbringen: Wetterfeste Arbeitskleidung\, feste Schuhe\, Trinkflasche und ein gesundes Vesper in der Brotdose.
URL:https://naturspur.de/event/musik-liegt-in-der-luft-instrumente-bauen-klaenge-entdecken-natur-hoeren/
LOCATION:Naturspur e.V.\, Speyerer Straße 67a\, Otterstadt\, 67166\, Deutschland
CATEGORIES:Kurse & Workshops
ATTACH;FMTTYPE=image/jpeg:https://naturspur.de/wp-content/uploads/2020/12/F3F92083-D709-4493-9B59-1AF511C14CD4.jpg
END:VEVENT
BEGIN:VEVENT
DTSTART;TZID=Europe/Berlin:20260418T100000
DTEND;TZID=Europe/Berlin:20260418T160000
DTSTAMP:20260422T110012
CREATED:20251214T075217Z
LAST-MODIFIED:20251214T075217Z
UID:5817-1776506400-1776528000@naturspur.de
SUMMARY:Schnitzführerschein
DESCRIPTION:Beim Schnitzführerschein lernen Kinder Schritt für Schritt die Grundlagen des Schnitzens kennen. Im Mittelpunkt stehen der sichere Umgang mit dem Schnitzmesser\, grundlegende Schnitztechniken\, sowie wichtige Regeln für ein achtsames und verantwortungsvolles Arbeiten mit Werkzeug. Nach einer Einführung üben die Kinder verschiedene Techniken und setzen das Gelernte direkt um.  Mit etwas Kreativität\, Geduld und Übung entsteht im Laufe des Tages ein erstes eigenes Meisterstück\, das stolz mit nach hause genommen werden darf. Neben dem handwerklichen Tun bleibt genügend Zeit zum freien Spiel und Erkunden unseres Natuerlebnisgeländes. Bei kühlen Temperaturen\, machen wir es uns am großen Lagerfeuer gemütlich. \nAlter der Teilnehmer: 6–13\nKursgebühr: 48 Euro\nBitte mitbringen: Wetterfeste Arbeitskleidung\, feste Schuhe\, Trinkflasche und ein gesundes Vesper in der Brotdose und Schnitzmesser (sofern vorhanden).
URL:https://naturspur.de/event/schnitzfuehrerschein-8/
LOCATION:Naturspur e.V.\, Speyerer Straße 67a\, Otterstadt\, 67166\, Deutschland
CATEGORIES:Kurse & Workshops
ATTACH;FMTTYPE=image/webp:https://naturspur.de/wp-content/uploads/2023/01/IMG_20220407_162740_645.webp
END:VEVENT
END:VCALENDAR